BEGIN:VCALENDAR
VERSION:2.0
PRODID:-//HACCI - ECPv4.9.6//NONSGML v1.0//EN
CALSCALE:GREGORIAN
METHOD:PUBLISH
X-WR-CALNAME:HACCI
X-ORIGINAL-URL:https://hacci.com.au
X-WR-CALDESC:Events for HACCI
BEGIN:VTIMEZONE
TZID:"Europe/Paris"
BEGIN:DAYLIGHT
TZOFFSETFROM:+0100
TZOFFSETTO:+0200
TZNAME:CEST
DTSTART:20180325T010000
END:DAYLIGHT
BEGIN:STANDARD
TZOFFSETFROM:+0200
TZOFFSETTO:+0100
TZNAME:CET
DTSTART:20181028T010000
END:STANDARD
END:VTIMEZONE
BEGIN:VEVENT
DTSTART;TZID="Europe/Paris":20180604T183000
DTEND;TZID="Europe/Paris":20180604T210000
DTSTAMP:20210301T164950
CREATED:20180422T072958Z
LAST-MODIFIED:20180525T022530Z
UID:1780-1528137000-1528146000@hacci.com.au
SUMMARY:Asylum Seekers Resource Centre – A Greek success story
DESCRIPTION:Come and experience first-hand Australia’s most successful refugee organisation\, sounded and build by the son of Greek immigrants. The Greek success story is about the power of children of Greek immigrants building a place of welcome and hope for refugees – one that is saving the lift of thousands of people right now. Meet the founter of the ASRC\, Kon Karapanagiotidis\, and hear all about ASRC’s extraordinary history and future\, something you cannot grasp without being here in person. \n \n
URL:https://hacci.com.au/event/business-insights-series/
LOCATION:Asylum Seeker Resource Centre\, 214-218 Nicholson Street\, Footscray\, Victoria\, Australia
CATEGORIES:HACCI
END:VEVENT
END:VCALENDAR